Workbook

Sheet 0417作业
A3: 名称 | B3: 上证指数 | C3: 002271东方雨虹 | D3: 按上证指数 信号交易 | E3: 600031三一重工 | F3: 按上证指数 信号交易
A4: 起止时间 | B4: 2001-1-4至 2020-4-17 | C4: 2008-9-10至 2020-4-17 | E4: 2003-7-3至 2020-4-17
A5: 总赢利率 | B5: 3.5864 | C5: 0.3732 | D5: ='002271东方雨虹1000W'!G221 -> 0.1503 | E5: 1.1818 | F5: ='600031三一重工1000W'!G303 -> 1.1766
A6: 年赢利率 | B6: 0.1858 | C6: 0.0321 | D6: =D5/12 -> 0.012525 | E6: 0.0703 | F6: =F5/17 -> 0.069211765
A7: 胜率 | B7: 0.2824 | C7: 0.3273 | D7: ='002271东方雨虹1000W'!G218 -> 0.4913 | E7: 0.2817 | F7: ='600031三一重工1000W'!G300 -> 0.4343
A8: 盈亏比 | B8: 8.92 | C8: 4.26 | D8: ='002271东方雨虹1000W'!G219 -> 1.62 | E8: 6.81 | F8: ='600031三一重工1000W'!G301 -> 2.9
A9: 赢利金额 | B9: 35863560 | C9: 3732304 | D9: ='002271东方雨虹1000W'!K216+'002271东方雨虹1000W'!L216 -> 1502373 | E9: 11818612 | F9: ='600031三一重工1000W'!K298+'600031三一重工1000W'!L298 -> 11765143
A10: 交易次数 | B10: 85 | C10: 55 | D10: ='002271东方雨虹1000W'!G220 -> 57 | E10: 71 | F10: 76

Sheet 600031三一重工1000W
A1: 序号 | B1: 时间 | C1: 价格 | D1: ATR | F1: 股数 | H1: 成交金额 | I1: 市值 | J1: 帐户权益 | K1: 盈亏金额 | M1: 交易次数
F2: 买 | G2: 卖 | K2: 盈 | L2: 亏 | M2: 盈 | N2: 亏
A3: 0 | J3: 10000000
A4: 1 | B4: 37956 | C4: 23.05 | D4: 0.66 | E4: 买 | F4: =ROUNDUP(J3*0.003/(1*D4),-2) -> 45500 | H4: =ROUNDUP(F4*C4,0) -> 1048775 | I4: =H4 -> 1048775 | M4: 1
A5: 2 | B5: 37959 | C5: 23.06 | D5: 0.65 | E5: 买 | F5: =ROUNDUP(J3*0.003/(1*D5),-2) -> 46200 | H5: =ROUNDUP(F5*C5,0) -> 1065372 | I5: =H5+I4 -> 2114147
A6: 3 | B6: 37965 | C6: 23.5 | D6: 0.59 | E6: 买 | F6: =ROUNDUP(J3*0.003/(1*D6),-2) -> 50900 | H6: =ROUNDUP(F6*C6,0) -> 1196150 | I6: =H6+I5 -> 3310297
A7: 4 | B7: 37977 | C7: 22.81 | D7: 0.56 | E7: 买 | F7: 39400 | H7: =ROUNDUP(F7*C7,0) -> 898714 | I7: =H7+I6 -> 4209011
A8: 5 | B8: 37979 | C8: 24.2 | D8: 0.61 | E8: 买 | F8: 0
A9: 6 | B9: 38041 | C9: 28.26 | E9: 卖 | G9: =SUM(F4:F8) -> 182000 | H9: =ROUNDUP(G9*C9,0) -> 5143320 | J9: =J3+K9 -> 10934309 | K9: =H9-I7 -> 934309
A10: 7 | B10: 38061 | C10: 28.6 | D10: 0.85 | E10: 买 | F10: =ROUNDUP(J9*0.003/(1*D10),-2) -> 38600 | H10: =ROUNDUP(F10*C10,0) -> 1103960 | I10: =H10 -> 1103960 | M10: 1
A11: 8 | B11: 38068 | C11: 27.93 | D11: 0.8 | E11: 买 | F11: =ROUNDUP(J9*0.003/(1*D11),-2) -> 41100 | H11: =ROUNDUP(F11*C11,0) -> 1147923 | I11: =H11+I10 -> 2251883
A12: 9 | B12: 38079 | C12: 29.55 | D12: 0.69 | E12: 买 | F12: =ROUNDUP(J9*0.003/(1*D12),-2) -> 47600 | H12: =ROUNDUP(F12*C12,0) -> 1406580 | I12: =H12+I11 -> 3658463
A13: 10 | B13: 38089 | C13: 31.16 | E13: 卖 | G13: =SUM(F10:F12) -> 127300 | H13: =ROUNDUP(G13*C13,0) -> 3966668 | J13: =J9+K13 -> 11242514 | K13: =H13-I12 -> 308205
A14: 11 | B14: 38247 | C14: 19.54 | D14: 0.51 | E14: 买 | F14: =ROUNDUP(J13*0.003/(1*D14),-2) -> 66200 | H14: =ROUNDUP(F14*C14,0) -> 1293548 | I14: =H14 -> 1293548 | M14: 1
A15: 12 | B15: 38250 | C15: 20.59 | D15: 0.54 | E15: 买 | F15: =ROUNDUP(J13*0.003/(1*D15),-2) -> 62500 | H15: =ROUNDUP(F15*C15,0) -> 1286875 | I15: =H15+I14 -> 2580423
A16: 13 | B16: 38260 | C16: 20.98 | E16: 卖 | G16: =SUM(F14:F15) -> 128700 | H16: =ROUNDUP(G16*C16,0) -> 2700126 | J16: =J13+K16 -> 11362217 | K16: =H16-I15 -> 119703
A17: 14 | B17: 38310 | C17: 19.15 | D17: 0.67 | E17: 买 | F17: =ROUNDUP(J16*0.003/(1*D17),-2) -> 50900 | H17: =ROUNDUP(F17*C17,0) -> 974735 | I17: =H17 -> 974735 | N17: 1
A18: 15 | B18: 38320 | C18: 18.73 | E18: 卖 | G18: =F17 -> 50900 | H18: =ROUNDUP(G18*C18,0) -> 953357 | J18: =J16+L18 -> 11340839 | L18: =H18-I17 -> -21378
A19: 16 | B19: 38399 | C19: 17.95 | D19: 0.67 | E19: 买 | F19: =ROUNDUP(J18*0.003/(1*D19),-2) -> 50800 | H19: =ROUNDUP(F19*C19,0) -> 911860 | I19: =H19 -> 911860 | M19: 1
A20: 17 | B20: 38405 | C20: 18.45 | D20: 0.64 | E20: 买 | F20: =ROUNDUP(J18*0.003/(1*D20),-2) -> 53200 | H20: =ROUNDUP(F20*C20,0) -> 981540 | I20: =H20+I19 -> 1893400
A21: 18 | B21: 38425 | C21: 20 | E21: 卖 | G21: =SUM(F19:F20) -> 104000 | H21: =ROUNDUP(G21*C21,0) -> 2080000 | J21: =J18+K21 -> 11527439 | K21: =H21-I20 -> 186600
A22: 19 | B22: 38512 | C22: 21.65 | D22: 0.88 | E22: 买 | F22: =ROUNDUP(J21*0.003/(1*D22),-2) -> 39300 | H22: =ROUNDUP(F22*C22,0) -> 850845 | I22: =H22 -> 850845 | M22: 1
A23: 20 | B23: 38518 | C23: 23.82 | E23: 卖 | G23: =F22 -> 39300 | H23: =ROUNDUP(G23*C23,0) -> 936126 | J23: =J21+K23 -> 11612720 | K23: =H23-I22 -> 85281
A24: 21 | B24: 38566 | C24: 7.65 | D24: 0.66 | E24: 买 | F24: =ROUNDUP(J23*0.003/(1*D24),-2) -> 52800 | H24: =ROUNDUP(F24*C24,0) -> 403920 | I24: =H24 -> 403920 | N24: 1
A25: 22 | B25: 38569 | C25: 7.99 | D25: 0.36 | E25: 买 | F25: =ROUNDUP(J23*0.003/(1*D25),-2) -> 96800 | H25: =ROUNDUP(F25*C25,0) -> 773432 | I25: =H25+I24 -> 1177352
A26: 23 | B26: 38572 | C26: 7.91 | D26: 0.35 | E26: 买 | F26: 61600 | H26: =ROUNDUP(F26*C26,0) -> 487256 | I26: =H26+I25 -> 1664608
A27: 24 | B27: 38573 | C27: 7.77 | D27: 0.33 | E27: 买 | F27: 0 | H27: =ROUNDUP(F27*C27,0) -> 0 | I27: =H27+I26 -> 1664608
A28: 25 | B28: 38574 | C28: 7.9 | D28: 0.33 | E28: 买 | F28: 0 | H28: =ROUNDUP(F28*C28,0) -> 0 | I28: =H28+I27 -> 1664608
A29: 26 | B29: 38617 | C29: 6.68 | E29: 卖 | G29: =SUM(F24:F28) -> 211200 | H29: =ROUNDUP(G29*C29,0) -> 1410816 | J29: =J23+L29 -> 11358928 | L29: =H29-I28 -> -253792
A30: 27 | B30: 38700 | C30: 6.36 | D30: 0.18 | E30: 买 | F30: =ROUNDUP(J29*0.003/(1*D30),-2) -> 189400 | H30: =ROUNDUP(F30*C30,0) -> 1204584 | I30: =H30 -> 1204584 | N30: 1
A31: 28 | B31: 38706 | C31: 6.63 | D31: 0.18 | E31: 买 | F31: =ROUNDUP(J29*0.003/(1*D31),-2) -> 189400 | H31: =ROUNDUP(F31*C31,0) -> 1255722 | I31: =H31+I30 -> 2460306
A32: 29 | B32: 38709 | C32: 6.67 | D32: 0.2 | E32: 买 | F32: =ROUNDUP(J29*0.003/(1*D32),-2) -> 170400 | H32: =ROUNDUP(F32*C32,0) -> 1136568 | I32: =H32+I31 -> 3596874
A33: 30 | B33: 38712 | C33: 6.8 | D33: 0.19 | E33: 买 | F33: =ROUNDUP(J29*0.003/(1*D33),-2) -> 179400 | H33: =ROUNDUP(F33*C33,0) -> 1219920 | I33: =H33+I32 -> 4816794
A34: 31 | B34: 38769 | C34: 6.24 | E34: 卖 | G34: =SUM(F30:F33) -> 728600 | H34: =ROUNDUP(G34*C34,0) -> 4546464 | J34: =J29+L34 -> 11088598 | L34: =H34-I33 -> -270330
A35: 32 | B35: 38777 | C35: 6.11 | D35: 0.17 | E35: 买 | F35: =ROUNDUP(J34*0.003/(1*D35),-2) -> 195700 | H35: =ROUNDUP(F35*C35,0) -> 1195727 | I35: =H35 -> 1195727 | N35: 1
A36: 33 | B36: 38783 | C36: 5.77 | E36: 卖 | G36: =F35 -> 195700 | H36: =ROUNDUP(G36*C36,0) -> 1129189 | J36: =J34+L36 -> 11022060 | L36: =H36-I35 -> -66538
A37: 34 | B37: 38810 | C37: 7.73 | D37: 0.28 | E37: 买 | F37: =ROUNDUP(J36*0.003/(1*D37),-2) -> 118100 | H37: =ROUNDUP(F37*C37,0) -> 912913 | I37: =H37 -> 912913 | M37: 1
A38: 35 | B38: 38811 | C38: 8.46 | D38: 0.31 | E38: 买 | F38: =ROUNDUP(J36*0.003/(1*D38),-2) -> 106700 | H38: =ROUNDUP(F38*C38,0) -> 902682 | I38: =H38+I37 -> 1815595
A39: 36 | B39: 38812 | C39: 8.39 | D39: 0.32 | E39: 买 | F39: =ROUNDUP(J36*0.003/(1*D39),-2) -> 103400 | H39: =ROUNDUP(F39*C39,0) -> 867526 | I39: =H39+I38 -> 2683121
A40: 37 | B40: 38817 | C40: 9 | D40: 0.38 | E40: 买 | F40: =ROUNDUP(J36*0.003/(1*D40),-2) -> 87100 | H40: =ROUNDUP(F40*C40,0) -> 783900 | I40: =H40+I39 -> 3467021
...

Sheet 600031三一重工100W
A1: 序号 | B1: 时间 | C1: 价格 | D1: ATR | F1: 股数 | H1: 成交金额 | I1: 市值 | J1: 帐户权益 | K1: 盈亏金额 | M1: 交易次数
F2: 买 | G2: 卖 | K2: 盈 | L2: 亏 | M2: 盈 | N2: 亏
A3: 0 | J3: 1000000
A4: 1 | B4: 37956 | C4: 23.05 | D4: 0.66 | E4: 买 | F4: =ROUNDUP(J3*0.003/(1*D4),-2) -> 4600 | H4: =ROUNDUP(F4*C4,0) -> 106030 | I4: =H4 -> 106030 | M4: 1
A5: 2 | B5: 37959 | C5: 23.06 | D5: 0.65 | E5: 买 | F5: =ROUNDUP(J3*0.003/(1*D5),-2) -> 4700 | H5: =ROUNDUP(F5*C5,0) -> 108382 | I5: =H5+I4 -> 214412
A6: 3 | B6: 37965 | C6: 23.5 | D6: 0.59 | E6: 买 | F6: =ROUNDUP(J3*0.003/(1*D6),-2) -> 5100 | H6: =ROUNDUP(F6*C6,0) -> 119850 | I6: =H6+I5 -> 334262
A7: 4 | B7: 37977 | C7: 22.81 | D7: 0.56 | E7: 买 | F7: =F4*4-F4-F5-F6 -> 4000 | H7: =ROUNDUP(F7*C7,0) -> 91240 | I7: =H7+I6 -> 425502
A8: 5 | B8: 37979 | C8: 24.2 | D8: 0.61 | E8: 买 | F8: 0
A9: 6 | B9: 38041 | C9: 28.26 | E9: 卖 | G9: =SUM(F4:F8) -> 18400 | H9: =ROUNDUP(G9*C9,0) -> 519984 | J9: =J3+K9 -> 1094482 | K9: =H9-I7 -> 94482
A10: 7 | B10: 38061 | C10: 28.6 | D10: 0.85 | E10: 买 | F10: =ROUNDUP(J9*0.003/(1*D10),-2) -> 3900 | H10: =ROUNDUP(F10*C10,0) -> 111540 | I10: =H10 -> 111540 | M10: 1
A11: 8 | B11: 38068 | C11: 27.93 | D11: 0.8 | E11: 买 | F11: =ROUNDUP(J9*0.003/(1*D11),-2) -> 4200 | H11: =ROUNDUP(F11*C11,0) -> 117306 | I11: =H11+I10 -> 228846
A12: 9 | B12: 38079 | C12: 29.55 | D12: 0.69 | E12: 买 | F12: =ROUNDUP(J9*0.003/(1*D12),-2) -> 4800 | H12: =ROUNDUP(F12*C12,0) -> 141840 | I12: =H12+I11 -> 370686
A13: 10 | B13: 38089 | C13: 31.16 | E13: 卖 | G13: =SUM(F10:F12) -> 12900 | H13: =ROUNDUP(G13*C13,0) -> 401964 | J13: =J9+K13 -> 1125760 | K13: =H13-I12 -> 31278
A14: 11 | B14: 38247 | C14: 19.54 | D14: 0.51 | E14: 买 | F14: =ROUNDUP(J13*0.003/(1*D14),-2) -> 6700 | H14: =ROUNDUP(F14*C14,0) -> 130918 | I14: =H14 -> 130918 | M14: 1
A15: 12 | B15: 38250 | C15: 20.59 | D15: 0.54 | E15: 买 | F15: =ROUNDUP(J13*0.003/(1*D15),-2) -> 6300 | H15: =ROUNDUP(F15*C15,0) -> 129717 | I15: =H15+I14 -> 260635
A16: 13 | B16: 38260 | C16: 20.98 | E16: 卖 | G16: =SUM(F14:F15) -> 13000 | H16: =ROUNDUP(G16*C16,0) -> 272740 | J16: =J13+K16 -> 1137865 | K16: =H16-I15 -> 12105
A17: 14 | B17: 38310 | C17: 19.15 | D17: 0.67 | E17: 买 | F17: =ROUNDUP(J16*0.003/(1*D17),-2) -> 5100 | H17: =ROUNDUP(F17*C17,0) -> 97665 | I17: =H17 -> 97665 | N17: 1
A18: 15 | B18: 38320 | C18: 18.73 | E18: 卖 | G18: =F17 -> 5100 | H18: =ROUNDUP(G18*C18,0) -> 95523 | J18: =J16+L18 -> 1135723 | L18: =H18-I17 -> -2142
A19: 16 | B19: 38399 | C19: 17.95 | D19: 0.67 | E19: 买 | F19: =ROUNDUP(J18*0.003/(1*D19),-2) -> 5100 | H19: =ROUNDUP(F19*C19,0) -> 91545 | I19: =H19 -> 91545 | M19: 1
A20: 17 | B20: 38405 | C20: 18.45 | D20: 0.64 | E20: 买 | F20: =ROUNDUP(J18*0.003/(1*D20),-2) -> 5400 | H20: =ROUNDUP(F20*C20,0) -> 99630 | I20: =H20+I19 -> 191175
A21: 18 | B21: 38425 | C21: 20 | E21: 卖 | G21: =SUM(F19:F20) -> 10500 | H21: =ROUNDUP(G21*C21,0) -> 210000 | J21: =J18+K21 -> 1154548 | K21: =H21-I20 -> 18825
A22: 19 | B22: 38512 | C22: 21.65 | D22: 0.88 | E22: 买 | F22: =ROUNDUP(J21*0.003/(1*D22),-2) -> 4000 | H22: =ROUNDUP(F22*C22,0) -> 86600 | I22: =H22 -> 86600 | M22: 1
A23: 20 | B23: 38518 | C23: 23.82 | E23: 卖 | G23: =F22 -> 4000 | H23: =ROUNDUP(G23*C23,0) -> 95280 | J23: =J21+K23 -> 1163228 | K23: =H23-I22 -> 8680
A24: 21 | B24: 38566 | C24: 7.65 | D24: 0.66 | E24: 买 | F24: =ROUNDUP(J23*0.003/(1*D24),-2) -> 5300 | H24: =ROUNDUP(F24*C24,0) -> 40545 | I24: =H24 -> 40545 | N24: 1
A25: 22 | B25: 38569 | C25: 7.99 | D25: 0.36 | E25: 买 | F25: =ROUNDUP(J23*0.003/(1*D25),-2) -> 9700 | H25: =ROUNDUP(F25*C25,0) -> 77503 | I25: =H25+I24 -> 118048
A26: 23 | B26: 38572 | C26: 7.91 | D26: 0.35 | E26: 买 | F26: =ROUNDUP(J23*0.003/(1*D26),-2) -> 10000 | H26: =ROUNDUP(F26*C26,0) -> 79100 | I26: =H26+I25 -> 197148
A27: 24 | B27: 38573 | C27: 7.77 | D27: 0.33 | E27: 买 | F27: =F24*4-F25-F26 -> 1500 | H27: =ROUNDUP(F27*C27,0) -> 11655 | I27: =H27+I26 -> 208803
A28: 25 | B28: 38574 | C28: 7.9 | D28: 0.33 | E28: 买 | F28: 0 | H28: =ROUNDUP(F28*C28,0) -> 0 | I28: =H28+I27 -> 208803
A29: 26 | B29: 38617 | C29: 6.68 | E29: 卖 | G29: =SUM(F24:F28) -> 26500 | H29: =ROUNDUP(G29*C29,0) -> 177020 | J29: =J23+L29 -> 1131445 | L29: =H29-I28 -> -31783
A30: 27 | B30: 38700 | C30: 6.36 | D30: 0.18 | E30: 买 | F30: =ROUNDUP(J29*0.003/(1*D30),-2) -> 18900 | H30: =ROUNDUP(F30*C30,0) -> 120204 | I30: =H30 -> 120204 | N30: 1
A31: 28 | B31: 38706 | C31: 6.63 | D31: 0.18 | E31: 买 | F31: =ROUNDUP(J29*0.003/(1*D31),-2) -> 18900 | H31: =ROUNDUP(F31*C31,0) -> 125307 | I31: =H31+I30 -> 245511
A32: 29 | B32: 38709 | C32: 6.67 | D32: 0.2 | E32: 买 | F32: =ROUNDUP(J29*0.003/(1*D32),-2) -> 17000 | H32: =ROUNDUP(F32*C32,0) -> 113390 | I32: =H32+I31 -> 358901
A33: 30 | B33: 38712 | C33: 6.8 | D33: 0.19 | E33: 买 | F33: =ROUNDUP(J29*0.003/(1*D33),-2) -> 17900 | H33: =ROUNDUP(F33*C33,0) -> 121720 | I33: =H33+I32 -> 480621
A34: 31 | B34: 38769 | C34: 6.24 | E34: 卖 | G34: =SUM(F30:F33) -> 72700 | H34: =ROUNDUP(G34*C34,0) -> 453648 | J34: =J29+L34 -> 1104472 | L34: =H34-I33 -> -26973
A35: 32 | B35: 38777 | C35: 6.11 | D35: 0.17 | E35: 买 | F35: =ROUNDUP(J34*0.003/(1*D35),-2) -> 19500 | H35: =ROUNDUP(F35*C35,0) -> 119145 | I35: =H35 -> 119145 | N35: 1
A36: 33 | B36: 38783 | C36: 5.77 | E36: 卖 | G36: =F35 -> 19500 | H36: =ROUNDUP(G36*C36,0) -> 112515 | J36: =J34+L36 -> 1097842 | L36: =H36-I35 -> -6630
A37: 34 | B37: 38810 | C37: 7.73 | D37: 0.28 | E37: 买 | F37: =ROUNDUP(J36*0.003/(1*D37),-2) -> 11800 | H37: =ROUNDUP(F37*C37,0) -> 91214 | I37: =H37 -> 91214 | M37: 1
A38: 35 | B38: 38811 | C38: 8.46 | D38: 0.31 | E38: 买 | F38: =ROUNDUP(J36*0.003/(1*D38),-2) -> 10700 | H38: =ROUNDUP(F38*C38,0) -> 90522 | I38: =H38+I37 -> 181736
A39: 36 | B39: 38812 | C39: 8.39 | D39: 0.32 | E39: 买 | F39: =ROUNDUP(J36*0.003/(1*D39),-2) -> 10300 | H39: =ROUNDUP(F39*C39,0) -> 86417 | I39: =H39+I38 -> 268153
A40: 37 | B40: 38817 | C40: 9 | D40: 0.38 | E40: 买 | F40: =ROUNDUP(J36*0.003/(1*D40),-2) -> 8700 | H40: =ROUNDUP(F40*C40,0) -> 78300 | I40: =H40+I39 -> 346453
...

Sheet 002271东方雨虹1000W
A1: 序号 | B1: 时间 | C1: 价格 | D1: ATR | F1: 股数 | H1: 成交金额 | I1: 市值 | J1: 帐户权益 | K1: 盈亏金额 | M1: 交易次数
F2: 买 | G2: 卖 | K2: 盈 | L2: 亏 | M2: 盈 | N2: 亏
A3: 0 | J3: 10000000
A4: 83 | B4: 39769 | C4: 20.26 | D4: 0.88 | E4: 买 | F4: =ROUNDUP(J3*0.003/(1*D4),-2) -> 34100 | H4: =ROUNDUP(F4*C4,0) -> 690866 | I4: =H4 -> 690866 | N4: 1
A5: 84 | B5: 39780 | C5: 18 | E5: 卖 | G5: =F4 -> 34100 | H5: =ROUNDUP(G5*C5,0) -> 613800 | J5: =J3+L5 -> 9922934 | L5: =H5-I4 -> -77066
A6: 85 | B6: 39790 | C6: 26.01 | D6: 1.54 | E6: 买 | F6: =ROUNDUP(J5*0.003/(1*D6),-2) -> 19400 | H6: =ROUNDUP(F6*C6,0) -> 504594 | I6: =H6 -> 504594 | M6: 1
A7: 86 | B7: 39805 | C7: 26.09 | E7: 卖 | G7: =F6 -> 19400 | H7: =ROUNDUP(G7*C7,0) -> 506146 | J7: =J5+L7 -> 9922934 | K7: =H7-I6 -> 1552
A8: 87 | B8: 39847 | C8: 36.32 | D8: 2.55 | E8: 买 | F8: =ROUNDUP(J7*0.003/(1*D8),-2) -> 11700 | H8: =ROUNDUP(F8*C8,0) -> 424944 | I8: =H8 -> 424944 | N8: 1
A9: 88 | B9: 39848 | C9: 36.56 | D9: 2.56 | E9: 买 | F9: =ROUNDUP(J7*0.003/(1*D9),-2) -> 11700 | H9: =ROUNDUP(F9*C9,0) -> 427752 | I9: =H9+I8 -> 852696
A10: 89 | B10: 39850 | C10: 37.57 | D10: 2.48 | E10: 买 | F10: =ROUNDUP(J7*0.003/(1*D10),-2) -> 12100 | H10: =ROUNDUP(F10*C10,0) -> 454597 | I10: =H10+I9 -> 1307293
A11: 90 | B11: 39853 | C11: 37.82 | D11: 2.44 | E11: 买 | F11: =F8*4-F8-F9-F10 -> 11300 | H11: =ROUNDUP(F11*C11,0) -> 427366 | I11: =H11+I10 -> 1734659
A12: 91 | B12: 39854 | C12: 38.03 | D12: 2.39 | E12: 买 | F12: 0 | H12: =ROUNDUP(F12*C12,0) -> 0 | I12: =H12+I11 -> 1734659
A13: 92 | B13: 39869 | C13: 33.25 | E13: 卖 | G13: =SUM(F8:F12) -> 46800 | H13: =ROUNDUP(G13*C13,0) -> 1556100 | J13: =J7+K13 -> 9922934 | L13: =H13-I12 -> -178559
A14: 93 | B14: 39895 | C14: 34.57 | D14: 2.09 | E14: 买 | F14: =ROUNDUP(J13*0.003/(1*D14),-2) -> 14300 | H14: =ROUNDUP(F14*C14,0) -> 494351 | I14: =H14 -> 494351 | N14: 1
A15: 94 | B15: 39898 | C15: 33.7 | D15: 1.97 | E15: 买 | F15: =ROUNDUP(J13*0.003/(1*D15),-2) -> 15200 | H15: =ROUNDUP(F15*C15,0) -> 512240 | I15: =H15+I14 -> 1006591
A16: 95 | B16: 39904 | C16: 37.52 | D16: 2.09 | E16: 买 | F16: =ROUNDUP(J13*0.003/(1*D16),-2) -> 14300 | H16: =ROUNDUP(F16*C16,0) -> 536536 | I16: =H16+I15 -> 1543127
A17: 96 | B17: 39910 | C17: 41 | D17: 2.08 | E17: 买 | F17: =F14*4-F14-F15-F16 -> 13400 | H17: =ROUNDUP(F17*C17,0) -> 549400 | I17: =H17+I16 -> 2092527
A18: 97 | B18: 39916 | C18: 38 | D18: 2.1 | E18: 买 | F18: 0 | H18: =ROUNDUP(F18*C18,0) -> 0 | I18: =H18+I17 -> 2092527
A19: 98 | B19: 39930 | C19: 33.5 | E19: 卖 | G19: =SUM(F14:F18) -> 57200 | H19: =ROUNDUP(G19*C19,0) -> 1916200 | J19: =J13+L19 -> 9746607 | L19: =H19-I18 -> -176327
A20: 99 | B20: 39939 | C20: 36.3 | D20: 2.09 | E20: 买 | F20: =ROUNDUP(J19*0.003/(1*D20),-2) -> 14000 | H20: =ROUNDUP(F20*C20,0) -> 508200 | I20: =H20 -> 508200 | M20: 1
A21: 100 | B21: 39941 | C21: 34.88 | D21: 2 | E21: 买 | F21: =ROUNDUP(J19*0.003/(1*D21),-2) -> 14700 | H21: =ROUNDUP(F21*C21,0) -> 512736 | I21: =H21+I20 -> 1020936
A22: 101 | B22: 39946 | C22: 35.29 | D22: 1.85 | E22: 买 | F22: =ROUNDUP(J19*0.003/(1*D22),-2) -> 15900 | H22: =ROUNDUP(F22*C22,0) -> 561111 | I22: =H22+I21 -> 1582047
A23: 102 | B23: 39958 | C23: 37.33 | E23: 卖 | G23: =SUM(F20:F22) -> 44600 | H23: =ROUNDUP(G23*C23,0) -> 1664918 | J23: =J19+K23 -> 9829478 | K23: =H23-I22 -> 82871
A24: 103 | B24: 39965 | C24: 37.22 | D24: 1.52 | E24: 买 | F24: =ROUNDUP(J23*0.003/(1*D24),-2) -> 19500 | G24: 10转5 | H24: =ROUNDUP(F24*C24,0) -> 725790 | I24: =H24 -> 725790 | M24: 1 | P24: 24.5
A25: 104 | B25: 39967 | C25: 24.5 | D25: 1.87 | E25: 买 | F25: =ROUNDUP(J23*0.003/(1*D25),-2) -> 15800 | H25: =ROUNDUP(F25*C25,0) -> 387100 | I25: =H25+I24 -> 1112890
A26: 105 | B26: 39974 | C26: 22.7 | D26: 1.74 | E26: 买 | F26: =ROUNDUP(J23*0.003/(1*D26),-2) -> 17000 | H26: =ROUNDUP(F26*C26,0) -> 385900 | I26: =H26+I25 -> 1498790
A27: 106 | B27: 39982 | C27: 22.39 | D27: 1.61 | E27: 买 | F27: =ROUNDUP(J23*0.003/(1*D27),-2) -> 18400 | H27: =ROUNDUP(F27*C27,0) -> 411976 | I27: =H27+I26 -> 1910766
A28: 107 | B28: 39986 | C28: 22.09 | D28: 1.57 | E28: 买 | F28: =F24*4-F24-F25-F26-F27 -> 7300 | H28: =ROUNDUP(F28*C28,0) -> 161257 | I28: =H28+I27 -> 2072023
A29: 108 | B29: 40037 | C29: 23.73 | E29: 卖 | G29: =SUM(F24:F28)+F24*0.5 -> 87750 | H29: =ROUNDUP(G29*C29,0) -> 2082308 | J29: =J23+K29 -> 9839763 | K29: =H29-I28 -> 10285
A30: 109 | B30: 40070 | C30: 28.38 | D30: 1.94 | E30: 买 | F30: =ROUNDUP(J29*0.003/(1*D30),-2) -> 15300 | H30: =ROUNDUP(F30*C30,0) -> 434214 | I30: =H30 -> 434214 | N30: 1
A31: 110 | B31: 40079 | C31: 26.16 | E31: 卖 | G31: =F30 -> 15300 | H31: =ROUNDUP(G31*C31,0) -> 400248 | J31: =J29+L31 -> 9805797 | L31: =H31-I30 -> -33966
A32: 111 | B32: 40106 | C32: 32.05 | D32: 1.79 | E32: 买 | F32: =ROUNDUP(J31*0.003/(1*D32),-2) -> 16500 | H32: =ROUNDUP(F32*C32,0) -> 528825 | I32: =H32 -> 528825 | M32: 1
A33: 112 | B33: 40119 | C33: 35.91 | E33: 卖 | G33: =F32 -> 16500 | H33: =ROUNDUP(G33*C33,0) -> 592515 | J33: =J31+K33 -> 9869487 | K33: =H33-I32 -> 63690
A34: 113 | B34: 40121 | C34: 36.44 | D34: 1.77 | E34: 买 | F34: =ROUNDUP(J33*0.003/(1*D34),-2) -> 16800 | H34: =ROUNDUP(F34*C34,0) -> 612192 | I34: =H34 -> 612192 | M34: 1
A35: 114 | B35: 40123 | C35: 36.34 | D35: 1.72 | E35: 买 | F35: =ROUNDUP(J33*0.003/(1*D35),-2) -> 17300 | H35: =ROUNDUP(F35*C35,0) -> 628682 | I35: =H35+I34 -> 1240874
A36: 115 | B36: 40133 | C36: 39.3 | D36: 1.77 | E36: 买 | F36: =ROUNDUP(J33*0.003/(1*D36),-2) -> 16800 | H36: =ROUNDUP(F36*C36,0) -> 660240 | I36: =H36+I35 -> 1901114
A37: 116 | B37: 40136 | C37: 39.01 | D37: 1.72 | E37: 买 | F37: =F34*4-F34-F35-F36 -> 16300 | H37: =ROUNDUP(F37*C37,0) -> 635863 | I37: =H37+I36 -> 2536977
A38: 117 | B38: 40143 | C38: 39.03 | E38: 卖 | G38: =SUM(F34:F37) -> 67200 | H38: =ROUNDUP(G38*C38,0) -> 2622816 | J38: =J33+K38 -> 9955326 | K38: =H38-I37 -> 85839
A39: 118 | B39: 40240 | C39: 59.95 | D39: 3.65 | E39: 买 | F39: =ROUNDUP(J38*0.003/(1*D39),-2) -> 8200 | H39: =ROUNDUP(F39*C39,0) -> 491590 | I39: =H39 -> 491590 | N39: 1
A40: 119 | B40: 40252 | C40: 56.92 | E40: 卖 | G40: =F39 -> 8200 | H40: =ROUNDUP(G40*C40,0) -> 466744 | J40: =J38+L40 -> 9930480 | L40: =H40-I39 -> -24846
...

Sheet 002271东方雨虹100W
A1: 序号 | B1: 时间 | C1: 价格 | D1: ATR | F1: 股数 | H1: 成交金额 | I1: 市值 | J1: 帐户权益 | K1: 盈亏金额 | M1: 交易次数
F2: 买 | G2: 卖 | K2: 盈 | L2: 亏 | M2: 盈 | N2: 亏
A3: 0 | J3: 1000000
A4: 83 | B4: 39769 | C4: 20.26 | D4: 0.88 | E4: 买 | F4: =ROUNDUP(J3*0.003/(1*D4),-2) -> 3500 | H4: =ROUNDUP(F4*C4,0) -> 70910 | I4: =H4 -> 70910 | N4: 1
A5: 84 | B5: 39780 | C5: 18 | E5: 卖 | G5: =F4 -> 3500 | H5: =ROUNDUP(G5*C5,0) -> 63000 | J5: =J3+L5 -> 992090 | L5: =H5-I4 -> -7910
A6: 85 | B6: 39790 | C6: 26.01 | D6: 1.54 | E6: 买 | F6: =ROUNDUP(J5*0.003/(1*D6),-2) -> 2000 | H6: =ROUNDUP(F6*C6,0) -> 52020 | I6: =H6 -> 52020 | M6: 1
A7: 86 | B7: 39805 | C7: 26.09 | E7: 卖 | G7: =F6 -> 2000 | H7: =ROUNDUP(G7*C7,0) -> 52180 | J7: =J5+L7 -> 992090 | K7: =H7-I6 -> 160
A8: 87 | B8: 39847 | C8: 36.32 | D8: 2.55 | E8: 买 | F8: =ROUNDUP(J7*0.003/(1*D8),-2) -> 1200 | H8: =ROUNDUP(F8*C8,0) -> 43584 | I8: =H8 -> 43584 | N8: 1
A9: 88 | B9: 39848 | C9: 36.56 | D9: 2.56 | E9: 买 | F9: =ROUNDUP(J7*0.003/(1*D9),-2) -> 1200 | H9: =ROUNDUP(F9*C9,0) -> 43872 | I9: =H9+I8 -> 87456
A10: 89 | B10: 39850 | C10: 37.57 | D10: 2.48 | E10: 买 | F10: =ROUNDUP(J7*0.003/(1*D10),-2) -> 1300 | H10: =ROUNDUP(F10*C10,0) -> 48841 | I10: =H10+I9 -> 136297
A11: 90 | B11: 39853 | C11: 37.82 | D11: 2.44 | E11: 买 | F11: =F8*4-F8-F9-F10 -> 1100 | H11: =ROUNDUP(F11*C11,0) -> 41602 | I11: =H11+I10 -> 177899
A12: 91 | B12: 39854 | C12: 38.03 | D12: 2.39 | E12: 买 | F12: 0 | H12: =ROUNDUP(F12*C12,0) -> 0 | I12: =H12+I11 -> 177899
A13: 92 | B13: 39869 | C13: 33.25 | E13: 卖 | G13: =SUM(F8:F12) -> 4800 | H13: =ROUNDUP(G13*C13,0) -> 159600 | J13: =J7+K13 -> 992090 | L13: =H13-I12 -> -18299
A14: 93 | B14: 39895 | C14: 34.57 | D14: 2.09 | E14: 买 | F14: =ROUNDUP(J13*0.003/(1*D14),-2) -> 1500 | H14: =ROUNDUP(F14*C14,0) -> 51855 | I14: =H14 -> 51855 | N14: 1
A15: 94 | B15: 39898 | C15: 33.7 | D15: 1.97 | E15: 买 | F15: =ROUNDUP(J13*0.003/(1*D15),-2) -> 1600 | H15: =ROUNDUP(F15*C15,0) -> 53920 | I15: =H15+I14 -> 105775
A16: 95 | B16: 39904 | C16: 37.52 | D16: 2.09 | E16: 买 | F16: =ROUNDUP(J13*0.003/(1*D16),-2) -> 1500 | H16: =ROUNDUP(F16*C16,0) -> 56280 | I16: =H16+I15 -> 162055
A17: 96 | B17: 39910 | C17: 41 | D17: 2.08 | E17: 买 | F17: =F14*4-F14-F15-F16 -> 1400 | H17: =ROUNDUP(F17*C17,0) -> 57400 | I17: =H17+I16 -> 219455
A18: 97 | B18: 39916 | C18: 38 | D18: 2.1 | E18: 买 | F18: 0 | H18: =ROUNDUP(F18*C18,0) -> 0 | I18: =H18+I17 -> 219455
A19: 98 | B19: 39930 | C19: 33.5 | E19: 卖 | G19: =SUM(F14:F18) -> 6000 | H19: =ROUNDUP(G19*C19,0) -> 201000 | J19: =J13+L19 -> 973635 | L19: =H19-I18 -> -18455
A20: 99 | B20: 39939 | C20: 36.3 | D20: 2.09 | E20: 买 | F20: =ROUNDUP(J19*0.003/(1*D20),-2) -> 1400 | H20: =ROUNDUP(F20*C20,0) -> 50820 | I20: =H20 -> 50820 | M20: 1
A21: 100 | B21: 39941 | C21: 34.88 | D21: 2 | E21: 买 | F21: =ROUNDUP(J19*0.003/(1*D21),-2) -> 1500 | H21: =ROUNDUP(F21*C21,0) -> 52320 | I21: =H21+I20 -> 103140
A22: 101 | B22: 39946 | C22: 35.29 | D22: 1.85 | E22: 买 | F22: =ROUNDUP(J19*0.003/(1*D22),-2) -> 1600 | H22: =ROUNDUP(F22*C22,0) -> 56464 | I22: =H22+I21 -> 159604
A23: 102 | B23: 39958 | C23: 37.33 | E23: 卖 | G23: =SUM(F20:F22) -> 4500 | H23: =ROUNDUP(G23*C23,0) -> 167985 | J23: =J19+K23 -> 982016 | K23: =H23-I22 -> 8381
A24: 103 | B24: 39965 | C24: 37.22 | D24: 1.52 | E24: 买 | F24: =ROUNDUP(J23*0.003/(1*D24),-2) -> 2000 | G24: 10转5 | H24: =ROUNDUP(F24*C24,0) -> 74440 | I24: =H24 -> 74440 | M24: 1 | P24: 24.5
A25: 104 | B25: 39967 | C25: 24.5 | D25: 1.87 | E25: 买 | F25: =ROUNDUP(J23*0.003/(1*D25),-2) -> 1600 | H25: =ROUNDUP(F25*C25,0) -> 39200 | I25: =H25+I24 -> 113640
A26: 105 | B26: 39974 | C26: 22.7 | D26: 1.74 | E26: 买 | F26: =ROUNDUP(J23*0.003/(1*D26),-2) -> 1700 | H26: =ROUNDUP(F26*C26,0) -> 38590 | I26: =H26+I25 -> 152230
A27: 106 | B27: 39982 | C27: 22.39 | D27: 1.61 | E27: 买 | F27: =ROUNDUP(J23*0.003/(1*D27),-2) -> 1900 | H27: =ROUNDUP(F27*C27,0) -> 42541 | I27: =H27+I26 -> 194771
A28: 107 | B28: 39986 | C28: 22.09 | D28: 1.57 | E28: 买 | F28: =F24*4-F24-F25-F26-F27 -> 800 | H28: =ROUNDUP(F28*C28,0) -> 17672 | I28: =H28+I27 -> 212443
A29: 108 | B29: 40037 | C29: 23.73 | E29: 卖 | G29: =SUM(F24:F28)+F24*0.5 -> 9000 | H29: =ROUNDUP(G29*C29,0) -> 213570 | J29: =J23+K29 -> 983143 | K29: =H29-I28 -> 1127
A30: 109 | B30: 40070 | C30: 28.38 | D30: 1.94 | E30: 买 | F30: =ROUNDUP(J29*0.003/(1*D30),-2) -> 1600 | H30: =ROUNDUP(F30*C30,0) -> 45408 | I30: =H30 -> 45408 | N30: 1
A31: 110 | B31: 40079 | C31: 26.16 | E31: 卖 | G31: =F30 -> 1600 | H31: =ROUNDUP(G31*C31,0) -> 41856 | J31: =J29+L31 -> 979591 | L31: =H31-I30 -> -3552
A32: 111 | B32: 40106 | C32: 32.05 | D32: 1.79 | E32: 买 | F32: =ROUNDUP(J31*0.003/(1*D32),-2) -> 1700 | H32: =ROUNDUP(F32*C32,0) -> 54485 | I32: =H32 -> 54485 | M32: 1
A33: 112 | B33: 40119 | C33: 35.91 | E33: 卖 | G33: =F32 -> 1700 | H33: =ROUNDUP(G33*C33,0) -> 61047 | J33: =J31+K33 -> 986153 | K33: =H33-I32 -> 6562
A34: 113 | B34: 40121 | C34: 36.44 | D34: 1.77 | E34: 买 | F34: =ROUNDUP(J33*0.003/(1*D34),-2) -> 1700 | H34: =ROUNDUP(F34*C34,0) -> 61948 | I34: =H34 -> 61948 | M34: 1
A35: 114 | B35: 40123 | C35: 36.34 | D35: 1.72 | E35: 买 | F35: =ROUNDUP(J33*0.003/(1*D35),-2) -> 1800 | H35: =ROUNDUP(F35*C35,0) -> 65412 | I35: =H35+I34 -> 127360
A36: 115 | B36: 40133 | C36: 39.3 | D36: 1.77 | E36: 买 | F36: =ROUNDUP(J33*0.003/(1*D36),-2) -> 1700 | H36: =ROUNDUP(F36*C36,0) -> 66810 | I36: =H36+I35 -> 194170
A37: 116 | B37: 40136 | C37: 39.01 | D37: 1.72 | E37: 买 | F37: =F34*4-F34-F35-F36 -> 1600 | H37: =ROUNDUP(F37*C37,0) -> 62416 | I37: =H37+I36 -> 256586
A38: 117 | B38: 40143 | C38: 39.03 | E38: 卖 | G38: =SUM(F34:F37) -> 6800 | H38: =ROUNDUP(G38*C38,0) -> 265404 | J38: =J33+K38 -> 994971 | K38: =H38-I37 -> 8818
A39: 118 | B39: 40240 | C39: 59.95 | D39: 3.65 | E39: 买 | F39: =ROUNDUP(J38*0.003/(1*D39),-2) -> 900 | H39: =ROUNDUP(F39*C39,0) -> 53955 | I39: =H39 -> 53955 | N39: 1
A40: 119 | B40: 40252 | C40: 56.92 | E40: 卖 | G40: =F39 -> 900 | H40: =ROUNDUP(G40*C40,0) -> 51228 | J40: =J38+L40 -> 992244 | L40: =H40-I39 -> -2727
...
